Package: BrowserViz Version: 2.29.0 Command: /home/biocbuild/R/R/bin/R CMD build --keep-empty-dirs --no-resave-data BrowserViz StartedAt: 2025-01-28 21:28:36 -0000 (Tue, 28 Jan 2025) EndedAt: 2025-01-28 21:28:44 -0000 (Tue, 28 Jan 2025) EllapsedTime: 8.0 seconds RetCode: 0 Status: OK PackageFile: BrowserViz_2.29.0.tar.gz PackageFileSize: 267.6 KiB