Package: BrowserViz Version: 2.29.0 Command: /home/biocbuild/R/R/bin/R CMD INSTALL BrowserViz StartedAt: 2025-01-29 19:35:37 -0000 (Wed, 29 Jan 2025) EndedAt: 2025-01-29 19:36:08 -0000 (Wed, 29 Jan 2025) EllapsedTime: 30.6 seconds RetCode: 0 Status: OK