Package: BrowserViz Version: 2.29.0 Command: /home/biocbuild/bbs-3.21-bioc/R/bin/R CMD check --install=check:BrowserViz.install-out.txt --library=/home/biocbuild/bbs-3.21-bioc/R/site-library --timings BrowserViz_2.29.0.tar.gz StartedAt: 2025-02-09 20:35:00 -0500 (Sun, 09 Feb 2025) EndedAt: 2025-02-09 20:35:25 -0500 (Sun, 09 Feb 2025) EllapsedTime: 25.0 seconds RetCode: 0 Status: OK CheckDir: BrowserViz.Rcheck Warnings: 0