Package: BrowserViz Version: 2.29.0 Command: chmod a+r BrowserViz -R && E:\biocbuild\bbs-3.21-bioc\R\bin\R.exe CMD build --keep-empty-dirs --no-resave-data BrowserViz StartedAt: 2025-02-09 17:35:51 -0500 (Sun, 09 Feb 2025) EndedAt: 2025-02-09 17:36:49 -0500 (Sun, 09 Feb 2025) EllapsedTime: 57.8 seconds RetCode: 0 Status: OK PackageFile: BrowserViz_2.29.0.tar.gz PackageFileSize: 241.1 KiB