Package: BubbleTree Version: 2.37.0 Command: /Library/Frameworks/R.framework/Resources/bin/R CMD check --install=check:BubbleTree.install-out.txt --library=/Library/Frameworks/R.framework/Resources/library --no-vignettes --timings BubbleTree_2.37.0.tar.gz StartedAt: 2025-02-04 18:21:55 -0500 (Tue, 04 Feb 2025) EndedAt: 2025-02-04 18:24:19 -0500 (Tue, 04 Feb 2025) EllapsedTime: 143.8 seconds RetCode: 0 Status: OK CheckDir: BubbleTree.Rcheck Warnings: 0