Package: BubbleTree Version: 2.37.0 Command: /Library/Frameworks/R.framework/Resources/bin/R CMD INSTALL BubbleTree StartedAt: 2025-02-04 15:16:09 -0500 (Tue, 04 Feb 2025) EndedAt: 2025-02-04 15:16:30 -0500 (Tue, 04 Feb 2025) EllapsedTime: 20.2 seconds RetCode: 0 Status: OK