Package: BubbleTree Version: 2.37.0 Command: /home/biocbuild/R/R/bin/R CMD build --keep-empty-dirs --no-resave-data BubbleTree StartedAt: 2025-01-28 21:29:00 -0000 (Tue, 28 Jan 2025) EndedAt: 2025-01-28 21:32:24 -0000 (Tue, 28 Jan 2025) EllapsedTime: 204.1 seconds RetCode: 0 Status: OK PackageFile: BubbleTree_2.37.0.tar.gz PackageFileSize: 25.58 MiB