Package: BubbleTree Version: 2.37.0 Command: /home/biocbuild/R/R/bin/R CMD check --install=check:BubbleTree.install-out.txt --library=/home/biocbuild/R/R/site-library --no-vignettes --timings BubbleTree_2.37.0.tar.gz StartedAt: 2025-01-28 08:48:08 -0000 (Tue, 28 Jan 2025) EndedAt: 2025-01-28 08:55:44 -0000 (Tue, 28 Jan 2025) EllapsedTime: 455.4 seconds RetCode: 0 Status: OK CheckDir: BubbleTree.Rcheck Warnings: 0