Package: BubbleTree Version: 2.37.0 Command: /Library/Frameworks/R.framework/Resources/bin/R CMD build --keep-empty-dirs --no-resave-data BubbleTree StartedAt: 2025-02-03 16:10:38 -0500 (Mon, 03 Feb 2025) EndedAt: 2025-02-03 16:12:58 -0500 (Mon, 03 Feb 2025) EllapsedTime: 140.5 seconds RetCode: 0 Status: OK PackageFile: BubbleTree_2.37.0.tar.gz PackageFileSize: 27.85 MiB