Package: BubbleTree Version: 2.37.0 Command: /Library/Frameworks/R.framework/Resources/bin/R CMD check --install=check:BubbleTree.install-out.txt --library=/Library/Frameworks/R.framework/Resources/library --no-vignettes --timings BubbleTree_2.37.0.tar.gz StartedAt: 2025-02-09 19:30:23 -0500 (Sun, 09 Feb 2025) EndedAt: 2025-02-09 19:37:20 -0500 (Sun, 09 Feb 2025) EllapsedTime: 417.2 seconds RetCode: 0 Status: OK CheckDir: BubbleTree.Rcheck Warnings: 0