Package: BubbleTree Version: 2.37.0 Command: /Library/Frameworks/R.framework/Resources/bin/R CMD INSTALL BubbleTree StartedAt: 2025-02-09 15:26:41 -0500 (Sun, 09 Feb 2025) EndedAt: 2025-02-09 15:27:48 -0500 (Sun, 09 Feb 2025) EllapsedTime: 67.7 seconds RetCode: 0 Status: OK