Package: BubbleTree Version: 2.37.0 Command: /home/biocbuild/bbs-3.21-bioc/R/bin/R CMD build --keep-empty-dirs --no-resave-data BubbleTree StartedAt: 2025-02-03 16:37:22 -0500 (Mon, 03 Feb 2025) EndedAt: 2025-02-03 16:39:54 -0500 (Mon, 03 Feb 2025) EllapsedTime: 152.1 seconds RetCode: 0 Status: OK PackageFile: BubbleTree_2.37.0.tar.gz PackageFileSize: 27.9 MiB