Package: BubbleTree Version: 2.37.0 Command: /home/biocbuild/bbs-3.21-bioc/R/bin/R CMD INSTALL BubbleTree StartedAt: 2025-02-09 15:43:58 -0500 (Sun, 09 Feb 2025) EndedAt: 2025-02-09 15:44:50 -0500 (Sun, 09 Feb 2025) EllapsedTime: 52.3 seconds RetCode: 0 Status: OK