Package: BubbleTree Version: 2.37.0 Command: rm -rf BubbleTree.buildbin-libdir && mkdir BubbleTree.buildbin-libdir && E:\biocbuild\bbs-3.21-bioc\R\bin\R.exe CMD INSTALL --build --library=BubbleTree.buildbin-libdir BubbleTree_2.37.0.tar.gz StartedAt: 2025-02-10 07:21:23 -0500 (Mon, 10 Feb 2025) EndedAt: 2025-02-10 07:22:49 -0500 (Mon, 10 Feb 2025) EllapsedTime: 85.9 seconds RetCode: 0 Status: OK PackageFile: BubbleTree_2.37.0.zip PackageFileSize: 25.99 MiB