Package: BubbleTree Version: 2.37.0 Command: chmod a+r BubbleTree -R && E:\biocbuild\bbs-3.21-bioc\R\bin\R.exe CMD build --keep-empty-dirs --no-resave-data BubbleTree StartedAt: 2025-02-09 17:36:25 -0500 (Sun, 09 Feb 2025) EndedAt: 2025-02-09 17:40:57 -0500 (Sun, 09 Feb 2025) EllapsedTime: 272.8 seconds RetCode: 0 Status: OK PackageFile: BubbleTree_2.37.0.tar.gz PackageFileSize: 26.12 MiB