Package: BubbleTree Version: 2.37.0 Command: E:\biocbuild\bbs-3.21-bioc\R\bin\R.exe CMD check --no-multiarch --install=check:BubbleTree.install-out.txt --library=E:\biocbuild\bbs-3.21-bioc\R\library --no-vignettes --timings BubbleTree_2.37.0.tar.gz StartedAt: 2025-02-12 23:25:25 -0500 (Wed, 12 Feb 2025) EndedAt: 2025-02-12 23:32:28 -0500 (Wed, 12 Feb 2025) EllapsedTime: 423.1 seconds RetCode: 0 Status: OK CheckDir: BubbleTree.Rcheck Warnings: 0