Package: BubbleTree Version: 2.37.0 Command: E:\biocbuild\bbs-3.21-bioc\R\bin\R.exe CMD INSTALL BubbleTree StartedAt: 2025-02-09 16:41:51 -0500 (Sun, 09 Feb 2025) EndedAt: 2025-02-09 16:43:06 -0500 (Sun, 09 Feb 2025) EllapsedTime: 75.0 seconds RetCode: 0 Status: OK