Package: BufferedMatrixMethods Version: 1.71.1 Command: /Library/Frameworks/R.framework/Resources/bin/R CMD check --install=check:BufferedMatrixMethods.install-out.txt --library=/Library/Frameworks/R.framework/Resources/library --no-vignettes --timings BufferedMatrixMethods_1.71.1.tar.gz StartedAt: 2025-02-10 18:21:27 -0500 (Mon, 10 Feb 2025) EndedAt: 2025-02-10 18:21:38 -0500 (Mon, 10 Feb 2025) EllapsedTime: 11.1 seconds RetCode: 0 Status: OK CheckDir: BufferedMatrixMethods.Rcheck Warnings: 0