Package: BufferedMatrixMethods Version: 1.71.1 Command: /Library/Frameworks/R.framework/Resources/bin/R CMD INSTALL BufferedMatrixMethods StartedAt: 2025-02-10 15:02:35 -0500 (Mon, 10 Feb 2025) EndedAt: 2025-02-10 15:02:42 -0500 (Mon, 10 Feb 2025) EllapsedTime: 7.3 seconds RetCode: 0 Status: OK