Package: BufferedMatrixMethods Version: 1.71.1 Command: rm -rf BufferedMatrixMethods.buildbin-libdir && mkdir BufferedMatrixMethods.buildbin-libdir && /Users/biocbuild/BBS/utils/build-universal.sh BufferedMatrixMethods_1.71.1.tar.gz /Library/Frameworks/R.framework/Resources/bin/R BufferedMatrixMethods.buildbin-libdir StartedAt: 2025-02-13 00:28:03 -0500 (Thu, 13 Feb 2025) EndedAt: 2025-02-13 00:28:11 -0500 (Thu, 13 Feb 2025) EllapsedTime: 8.0 seconds RetCode: 0 Status: OK PackageFile: BufferedMatrixMethods_1.71.1.tgz PackageFileSize: 53.41 KiB