Package: BufferedMatrixMethods Version: 1.71.1 Command: /Library/Frameworks/R.framework/Resources/bin/R CMD INSTALL BufferedMatrixMethods StartedAt: 2025-02-09 15:06:16 -0500 (Sun, 09 Feb 2025) EndedAt: 2025-02-09 15:06:50 -0500 (Sun, 09 Feb 2025) EllapsedTime: 34.1 seconds RetCode: 0 Status: OK