Package: BufferedMatrixMethods Version: 1.71.1 Command: /home/biocbuild/bbs-3.21-bioc/R/bin/R CMD INSTALL BufferedMatrixMethods StartedAt: 2025-02-10 15:11:41 -0500 (Mon, 10 Feb 2025) EndedAt: 2025-02-10 15:11:56 -0500 (Mon, 10 Feb 2025) EllapsedTime: 15.1 seconds RetCode: 0 Status: OK