Package: BufferedMatrixMethods Version: 1.71.1 Command: E:\biocbuild\bbs-3.21-bioc\R\bin\R.exe CMD check --no-multiarch --install=check:BufferedMatrixMethods.install-out.txt --library=E:\biocbuild\bbs-3.21-bioc\R\library --no-vignettes --timings BufferedMatrixMethods_1.71.1.tar.gz StartedAt: 2025-02-10 23:27:34 -0500 (Mon, 10 Feb 2025) EndedAt: 2025-02-10 23:28:10 -0500 (Mon, 10 Feb 2025) EllapsedTime: 36.4 seconds RetCode: 0 Status: OK CheckDir: BufferedMatrixMethods.Rcheck Warnings: 0