Package: BufferedMatrixMethods Version: 1.71.1 Command: E:\biocbuild\bbs-3.21-bioc\R\bin\R.exe CMD INSTALL BufferedMatrixMethods StartedAt: 2025-02-10 15:34:52 -0500 (Mon, 10 Feb 2025) EndedAt: 2025-02-10 15:35:54 -0500 (Mon, 10 Feb 2025) EllapsedTime: 61.4 seconds RetCode: 0 Status: OK