Package: BumpyMatrix Version: 1.15.0 Command: rm -rf BumpyMatrix.buildbin-libdir && mkdir BumpyMatrix.buildbin-libdir && /Users/biocbuild/BBS/utils/build-universal.sh BumpyMatrix_1.15.0.tar.gz /Library/Frameworks/R.framework/Resources/bin/R BumpyMatrix.buildbin-libdir StartedAt: 2025-02-09 22:08:04 -0500 (Sun, 09 Feb 2025) EndedAt: 2025-02-09 22:08:10 -0500 (Sun, 09 Feb 2025) EllapsedTime: 6.1 seconds RetCode: 0 Status: OK PackageFile: BumpyMatrix_1.15.0.tgz PackageFileSize: 1.03 MiB