Package: BumpyMatrix Version: 1.15.0 Command: /Library/Frameworks/R.framework/Resources/bin/R CMD build --keep-empty-dirs --no-resave-data BumpyMatrix StartedAt: 2025-02-09 15:45:45 -0500 (Sun, 09 Feb 2025) EndedAt: 2025-02-09 15:45:54 -0500 (Sun, 09 Feb 2025) EllapsedTime: 8.1 seconds RetCode: 0 Status: OK PackageFile: BumpyMatrix_1.15.0.tar.gz PackageFileSize: 317.4 KiB