Package: BumpyMatrix Version: 1.15.0 Command: rm -rf BumpyMatrix.buildbin-libdir && mkdir BumpyMatrix.buildbin-libdir && /Users/biocbuild/BBS/utils/build-universal.sh BumpyMatrix_1.15.0.tar.gz /Library/Frameworks/R.framework/Resources/bin/R BumpyMatrix.buildbin-libdir StartedAt: 2025-02-10 00:44:52 -0500 (Mon, 10 Feb 2025) EndedAt: 2025-02-10 00:45:14 -0500 (Mon, 10 Feb 2025) EllapsedTime: 21.7 seconds RetCode: 0 Status: OK PackageFile: BumpyMatrix_1.15.0.tgz PackageFileSize: 1.029 MiB