Package: BumpyMatrix Version: 1.15.0 Command: /home/biocbuild/bbs-3.21-bioc/R/bin/R CMD build --keep-empty-dirs --no-resave-data BumpyMatrix StartedAt: 2025-02-03 16:37:53 -0500 (Mon, 03 Feb 2025) EndedAt: 2025-02-03 16:38:15 -0500 (Mon, 03 Feb 2025) EllapsedTime: 22.0 seconds RetCode: 0 Status: OK PackageFile: BumpyMatrix_1.15.0.tar.gz PackageFileSize: 317.6 KiB