Package: BumpyMatrix Version: 1.15.0 Command: rm -rf BumpyMatrix.buildbin-libdir && mkdir BumpyMatrix.buildbin-libdir && E:\biocbuild\bbs-3.21-bioc\R\bin\R.exe CMD INSTALL --build --library=BumpyMatrix.buildbin-libdir BumpyMatrix_1.15.0.tar.gz StartedAt: 2025-02-04 07:36:18 -0500 (Tue, 04 Feb 2025) EndedAt: 2025-02-04 07:37:28 -0500 (Tue, 04 Feb 2025) EllapsedTime: 70.5 seconds RetCode: 0 Status: OK PackageFile: BumpyMatrix_1.15.0.zip PackageFileSize: 1.032 MiB