Package: BumpyMatrix Version: 1.15.0 Command: chmod a+r BumpyMatrix -R && E:\biocbuild\bbs-3.21-bioc\R\bin\R.exe CMD build --keep-empty-dirs --no-resave-data BumpyMatrix StartedAt: 2025-02-09 17:36:52 -0500 (Sun, 09 Feb 2025) EndedAt: 2025-02-09 17:37:55 -0500 (Sun, 09 Feb 2025) EllapsedTime: 63.5 seconds RetCode: 0 Status: OK PackageFile: BumpyMatrix_1.15.0.tar.gz PackageFileSize: 317.8 KiB