Package: BumpyMatrix Version: 1.15.0 Command: E:\biocbuild\bbs-3.21-bioc\R\bin\R.exe CMD check --no-multiarch --install=check:BumpyMatrix.install-out.txt --library=E:\biocbuild\bbs-3.21-bioc\R\library --no-vignettes --timings BumpyMatrix_1.15.0.tar.gz StartedAt: 2025-02-03 23:46:00 -0500 (Mon, 03 Feb 2025) EndedAt: 2025-02-03 23:47:49 -0500 (Mon, 03 Feb 2025) EllapsedTime: 109.3 seconds RetCode: 0 Status: OK CheckDir: BumpyMatrix.Rcheck Warnings: 0