Package: CAFE Version: 1.43.0 Command: /Library/Frameworks/R.framework/Resources/bin/R CMD INSTALL CAFE StartedAt: 2025-02-12 15:16:53 -0500 (Wed, 12 Feb 2025) EndedAt: 2025-02-12 15:17:16 -0500 (Wed, 12 Feb 2025) EllapsedTime: 23.0 seconds RetCode: 0 Status: OK