Package: CAFE Version: 1.43.0 Command: /home/biocbuild/bbs-3.21-bioc/R/bin/R CMD INSTALL CAFE StartedAt: 2025-02-09 15:48:37 -0500 (Sun, 09 Feb 2025) EndedAt: 2025-02-09 15:49:31 -0500 (Sun, 09 Feb 2025) EllapsedTime: 54.5 seconds RetCode: 0 Status: OK