Package: CAGEr Version: 2.13.0 Command: rm -rf CAGEr.buildbin-libdir && mkdir CAGEr.buildbin-libdir && /Users/biocbuild/BBS/utils/build-universal.sh CAGEr_2.13.0.tar.gz /Library/Frameworks/R.framework/Resources/bin/R CAGEr.buildbin-libdir StartedAt: 2025-02-04 22:10:03 -0500 (Tue, 04 Feb 2025) EndedAt: 2025-02-04 22:10:30 -0500 (Tue, 04 Feb 2025) EllapsedTime: 26.5 seconds RetCode: 0 Status: OK PackageFile: CAGEr_2.13.0.tgz PackageFileSize: 2.973 MiB