Package: CAGEr Version: 2.13.0 Command: /home/biocbuild/R/R/bin/R CMD INSTALL CAGEr StartedAt: 2025-01-29 20:13:11 -0000 (Wed, 29 Jan 2025) EndedAt: 2025-01-29 20:14:38 -0000 (Wed, 29 Jan 2025) EllapsedTime: 87.1 seconds RetCode: 0 Status: OK