Package: CAGEr Version: 2.13.0 Command: /Library/Frameworks/R.framework/Resources/bin/R CMD build --keep-empty-dirs --no-resave-data CAGEr StartedAt: 2025-02-09 16:08:55 -0500 (Sun, 09 Feb 2025) EndedAt: 2025-02-09 16:12:11 -0500 (Sun, 09 Feb 2025) EllapsedTime: 195.8 seconds RetCode: 0 Status: OK PackageFile: CAGEr_2.13.0.tar.gz PackageFileSize: 1.858 MiB