Package: CAGEr Version: 2.13.0 Command: /Library/Frameworks/R.framework/Resources/bin/R CMD INSTALL CAGEr StartedAt: 2025-02-09 15:31:48 -0500 (Sun, 09 Feb 2025) EndedAt: 2025-02-09 15:33:14 -0500 (Sun, 09 Feb 2025) EllapsedTime: 86.3 seconds RetCode: 0 Status: OK