Package: CATALYST Version: 1.31.2 Command: /Library/Frameworks/R.framework/Resources/bin/R CMD build --keep-empty-dirs --no-resave-data CATALYST StartedAt: 2025-02-04 15:47:44 -0500 (Tue, 04 Feb 2025) EndedAt: 2025-02-04 15:48:45 -0500 (Tue, 04 Feb 2025) EllapsedTime: 60.6 seconds RetCode: 0 Status: OK PackageFile: CATALYST_1.31.2.tar.gz PackageFileSize: 12.06 MiB