Package: CATALYST Version: 1.31.2 Command: /home/biocbuild/R/R/bin/R CMD INSTALL CATALYST StartedAt: 2025-01-29 20:34:06 -0000 (Wed, 29 Jan 2025) EndedAt: 2025-01-29 20:35:00 -0000 (Wed, 29 Jan 2025) EllapsedTime: 53.2 seconds RetCode: 0 Status: OK