Package: CATALYST Version: 1.31.2 Command: rm -rf CATALYST.buildbin-libdir && mkdir CATALYST.buildbin-libdir && /Users/biocbuild/BBS/utils/build-universal.sh CATALYST_1.31.2.tar.gz /Library/Frameworks/R.framework/Resources/bin/R CATALYST.buildbin-libdir StartedAt: 2025-02-05 00:31:42 -0500 (Wed, 05 Feb 2025) EndedAt: 2025-02-05 00:32:38 -0500 (Wed, 05 Feb 2025) EllapsedTime: 55.4 seconds RetCode: 0 Status: OK PackageFile: CATALYST_1.31.2.tgz PackageFileSize: 12.8 MiB