Package: CATALYST Version: 1.31.2 Command: /Library/Frameworks/R.framework/Resources/bin/R CMD build --keep-empty-dirs --no-resave-data CATALYST StartedAt: 2025-02-04 16:07:33 -0500 (Tue, 04 Feb 2025) EndedAt: 2025-02-04 16:10:20 -0500 (Tue, 04 Feb 2025) EllapsedTime: 166.7 seconds RetCode: 0 Status: OK PackageFile: CATALYST_1.31.2.tar.gz PackageFileSize: 12.09 MiB