Package: CATALYST Version: 1.31.2 Command: /Library/Frameworks/R.framework/Resources/bin/R CMD INSTALL CATALYST StartedAt: 2025-02-04 15:42:53 -0500 (Tue, 04 Feb 2025) EndedAt: 2025-02-04 15:43:42 -0500 (Tue, 04 Feb 2025) EllapsedTime: 49.4 seconds RetCode: 0 Status: OK