Package: CATALYST Version: 1.31.2 Command: /home/biocbuild/bbs-3.21-bioc/R/bin/R CMD build --keep-empty-dirs --no-resave-data CATALYST StartedAt: 2025-02-04 16:29:18 -0500 (Tue, 04 Feb 2025) EndedAt: 2025-02-04 16:32:06 -0500 (Tue, 04 Feb 2025) EllapsedTime: 168.3 seconds RetCode: 0 Status: OK PackageFile: CATALYST_1.31.2.tar.gz PackageFileSize: 11.32 MiB