Package: CATALYST Version: 1.31.2 Command: /home/biocbuild/bbs-3.21-bioc/R/bin/R CMD INSTALL CATALYST StartedAt: 2025-02-04 15:51:25 -0500 (Tue, 04 Feb 2025) EndedAt: 2025-02-04 15:52:01 -0500 (Tue, 04 Feb 2025) EllapsedTime: 36.7 seconds RetCode: 0 Status: OK