Package: CATALYST Version: 1.31.2 Command: chmod a+r CATALYST -R && E:\biocbuild\bbs-3.21-bioc\R\bin\R.exe CMD build --keep-empty-dirs --no-resave-data CATALYST StartedAt: 2025-02-04 17:38:08 -0500 (Tue, 04 Feb 2025) EndedAt: 2025-02-04 17:46:33 -0500 (Tue, 04 Feb 2025) EllapsedTime: 505.1 seconds RetCode: 0 Status: OK PackageFile: CATALYST_1.31.2.tar.gz PackageFileSize: 6.759 MiB