Package: CATALYST Version: 1.31.2 Command: E:\biocbuild\bbs-3.21-bioc\R\bin\R.exe CMD INSTALL CATALYST StartedAt: 2025-02-04 16:54:20 -0500 (Tue, 04 Feb 2025) EndedAt: 2025-02-04 16:55:16 -0500 (Tue, 04 Feb 2025) EllapsedTime: 56.1 seconds RetCode: 0 Status: OK