Package: CBNplot Version: 1.7.0 Command: /home/biocbuild/bbs-3.21-bioc/R/bin/R CMD INSTALL CBNplot StartedAt: 2025-02-09 15:48:11 -0500 (Sun, 09 Feb 2025) EndedAt: 2025-02-09 15:48:42 -0500 (Sun, 09 Feb 2025) EllapsedTime: 30.6 seconds RetCode: 0 Status: OK