Package: CBNplot Version: 1.7.0 Command: rm -rf CBNplot.buildbin-libdir && mkdir CBNplot.buildbin-libdir && E:\biocbuild\bbs-3.21-bioc\R\bin\R.exe CMD INSTALL --build --library=CBNplot.buildbin-libdir CBNplot_1.7.0.tar.gz StartedAt: 2025-02-13 07:34:14 -0500 (Thu, 13 Feb 2025) EndedAt: 2025-02-13 07:35:17 -0500 (Thu, 13 Feb 2025) EllapsedTime: 63.2 seconds RetCode: 0 Status: OK PackageFile: CBNplot_1.7.0.zip PackageFileSize: 792.8 KiB