Package: CBNplot Version: 1.7.0 Command: chmod a+r CBNplot -R && E:\biocbuild\bbs-3.21-bioc\R\bin\R.exe CMD build --keep-empty-dirs --no-resave-data CBNplot StartedAt: 2025-02-09 17:40:59 -0500 (Sun, 09 Feb 2025) EndedAt: 2025-02-09 17:42:21 -0500 (Sun, 09 Feb 2025) EllapsedTime: 81.2 seconds RetCode: 0 Status: OK PackageFile: CBNplot_1.7.0.tar.gz PackageFileSize: 638.4 KiB