Package: CBNplot Version: 1.7.0 Command: E:\biocbuild\bbs-3.21-bioc\R\bin\R.exe CMD INSTALL CBNplot StartedAt: 2025-02-09 16:00:39 -0500 (Sun, 09 Feb 2025) EndedAt: 2025-02-09 16:01:18 -0500 (Sun, 09 Feb 2025) EllapsedTime: 38.3 seconds RetCode: 0 Status: OK